BEGIN:VCALENDAR
VERSION:2.0
PRODID:-//wp-events-plugin.com//7.2.3.1//EN
BEGIN:VEVENT
UID:821@goebel-schleyer.com
DTSTART;TZID=Europe/Berlin:20260603T163000
DTEND;TZID=Europe/Berlin:20260603T174500
DTSTAMP:20260121T104431Z
URL:https://goebel-schleyer.com/events/weinbergspaziergang-mit-weinprobe-2
 026-04-01-2026-04-08-2026-04-15-2026-04-22-2026-04-29-2026-05-06-2026-05-1
 3-2026-05-20-2026-05-27-2026-06-03/
SUMMARY:Weinbergspaziergang mit Weinprobe
DESCRIPTION:Weinbergspaziergang entlang des Weinlehrpfades mit Weinprobe mi
 tten in den Weinbergen und im WeinWerk.
ATTACH;FMTTYPE=image/jpeg:https://goebel-schleyer.com/wp-content/uploads/2
 025/04/Haus_Sonnenschein_Weinprobe_September_2024_MG_3839.jpg
CATEGORIES:Weinbergspaziergang,Weingut Göbel-Schleyer,Weinprobe
LOCATION:Weingut Göbel-Schleyer-Erben\, Klosterstrasse 12\, Ernst\, 56814\
 , Deutschland
GEO:50.143052;7.220665
X-APPLE-STRUCTURED-LOCATION;VALUE=URI;X-ADDRESS=Klosterstrasse 12\, Ernst\,
  56814\, Deutschland;X-APPLE-RADIUS=100;X-TITLE=Weingut Göbel-Schleyer-Er
 ben:geo:50.143052,7.220665
END:VEVENT
BEGIN:VTIMEZONE
TZID:Europe/Berlin
X-LIC-LOCATION:Europe/Berlin
BEGIN:DAYLIGHT
DTSTART:20260329T030000
TZOFFSETFROM:+0100
TZOFFSETTO:+0200
TZNAME:CEST
END:DAYLIGHT
END:VTIMEZONE
END:VCALENDAR